BEGIN:VCALENDAR
VERSION:2.0
PRODID:icalendar-ruby
CALSCALE:GREGORIAN
METHOD:PUBLISH
BEGIN:VEVENT
DTSTAMP:20260423T182113Z
UID:15-963697@whbcjacksonville.com
DTSTART:20261028T230000Z
DTEND:20261029T000000Z
CLASS:PUBLIC
CREATED:20260423T124939
DESCRIPTION:Wednesday Night Fellowship
LAST-MODIFIED:20260423T124939
LOCATION:Woodland Heights
SUMMARY:Wednesday Night Fellowship
URL;VALUE=URI:https://whbcjacksonville.com/events/wednesday-night-fellowshi
 p/2026-10-28
END:VEVENT
END:VCALENDAR
