BEGIN:VCALENDAR
VERSION:2.0
PRODID:icalendar-ruby
CALSCALE:GREGORIAN
METHOD:PUBLISH
BEGIN:VEVENT
DTSTAMP:20260423T150253Z
UID:15-963208@whbcjacksonville.com
DTSTART:20261014T230000Z
DTEND:20261015T000000Z
CLASS:PUBLIC
CREATED:20260423T095404
DESCRIPTION:Wednesday Night Fellowship
LAST-MODIFIED:20260423T095404
LOCATION:Woodland Heights
SUMMARY:Wednesday Night Fellowship
URL;VALUE=URI:https://whbcjacksonville.com/events/wednesday-night-fellowshi
 p/2026-10-14
END:VEVENT
END:VCALENDAR
