BEGIN:VCALENDAR
VERSION:2.0
PRODID:icalendar-ruby
CALSCALE:GREGORIAN
METHOD:PUBLISH
BEGIN:VEVENT
DTSTAMP:20260423T093935Z
UID:15-962231@whbcjacksonville.com
DTSTART:20260923T230000Z
DTEND:20260924T000000Z
CLASS:PUBLIC
CREATED:20260422T213057
DESCRIPTION:Wednesday Night Fellowship
LAST-MODIFIED:20260422T213057
LOCATION:Woodland Heights
SUMMARY:Wednesday Night Fellowship
URL;VALUE=URI:https://whbcjacksonville.com/events/wednesday-night-fellowshi
 p/2026-09-23
END:VEVENT
END:VCALENDAR
