BEGIN:VCALENDAR
VERSION:2.0
PRODID:icalendar-ruby
CALSCALE:GREGORIAN
METHOD:PUBLISH
BEGIN:VEVENT
DTSTAMP:20260423T075237Z
UID:15-962230@whbcjacksonville.com
DTSTART:20260916T230000Z
DTEND:20260917T000000Z
CLASS:PUBLIC
CREATED:20260422T213057
DESCRIPTION:Wednesday Night Fellowship
LAST-MODIFIED:20260422T213057
LOCATION:Woodland Heights
SUMMARY:Wednesday Night Fellowship
URL;VALUE=URI:https://whbcjacksonville.com/events/wednesday-night-fellowshi
 p/2026-09-16
END:VEVENT
END:VCALENDAR
