BEGIN:VCALENDAR
VERSION:2.0
PRODID:icalendar-ruby
CALSCALE:GREGORIAN
METHOD:PUBLISH
BEGIN:VEVENT
DTSTAMP:20260424T233906Z
UID:6-967343@whbcjacksonville.com
DTSTART:20260920T153000Z
DTEND:20260920T170000Z
CLASS:PUBLIC
CREATED:20260424T181647
DESCRIPTION:
LAST-MODIFIED:20260424T181647
LOCATION:
SUMMARY:Sunday Worship
URL;VALUE=URI:https://whbcjacksonville.com/events/sunday-worship/2026-09-20
ATTACH;FILENAME=1000002105.jpg;FMTTYPE=image/jpeg:https://dq5pwpg1q8ru0.clo
 udfront.net/2025/09/21/16/06/02/f0038a85-a686-4c3e-b1ad-2fbd542e5ca2/10000
 02105.jpg
END:VEVENT
END:VCALENDAR
