BEGIN:VCALENDAR
VERSION:2.0
PRODID:icalendar-ruby
CALSCALE:GREGORIAN
METHOD:PUBLISH
BEGIN:VEVENT
DTSTAMP:20260423T193743Z
UID:21-963737@whbcjacksonville.com
DTSTART:20261102T233000Z
DTEND:20261103T003000Z
CLASS:PUBLIC
CREATED:20260423T124939
DESCRIPTION:Ladies Workout
LAST-MODIFIED:20260423T124939
LOCATION:Woodland Heights
SUMMARY:Ladies Workout
URL;VALUE=URI:https://whbcjacksonville.com/events/ladies-workout/2026-11-02
END:VEVENT
END:VCALENDAR
