BEGIN:VCALENDAR
VERSION:2.0
PRODID:icalendar-ruby
CALSCALE:GREGORIAN
METHOD:PUBLISH
BEGIN:VEVENT
DTSTAMP:20260423T175248Z
UID:21-963736@whbcjacksonville.com
DTSTART:20261026T223000Z
DTEND:20261026T233000Z
CLASS:PUBLIC
CREATED:20260423T124939
DESCRIPTION:Ladies Workout
LAST-MODIFIED:20260423T124939
LOCATION:Woodland Heights
SUMMARY:Ladies Workout
URL;VALUE=URI:https://whbcjacksonville.com/events/ladies-workout/2026-10-26
END:VEVENT
END:VCALENDAR
