BEGIN:VCALENDAR
VERSION:2.0
PRODID:icalendar-ruby
CALSCALE:GREGORIAN
METHOD:PUBLISH
BEGIN:VEVENT
DTSTAMP:20260423T160931Z
UID:21-963248@whbcjacksonville.com
DTSTART:20261019T223000Z
DTEND:20261019T233000Z
CLASS:PUBLIC
CREATED:20260423T095404
DESCRIPTION:Ladies Workout
LAST-MODIFIED:20260423T095404
LOCATION:Woodland Heights
SUMMARY:Ladies Workout
URL;VALUE=URI:https://whbcjacksonville.com/events/ladies-workout/2026-10-19
END:VEVENT
END:VCALENDAR
