BEGIN:VCALENDAR
VERSION:2.0
PRODID:icalendar-ruby
CALSCALE:GREGORIAN
METHOD:PUBLISH
BEGIN:VEVENT
DTSTAMP:20260423T143543Z
UID:21-962760@whbcjacksonville.com
DTSTART:20261012T223000Z
DTEND:20261012T233000Z
CLASS:PUBLIC
CREATED:20260423T070105
DESCRIPTION:Ladies Workout
LAST-MODIFIED:20260423T070105
LOCATION:Woodland Heights
SUMMARY:Ladies Workout
URL;VALUE=URI:https://whbcjacksonville.com/events/ladies-workout/2026-10-12
END:VEVENT
END:VCALENDAR
