BEGIN:VCALENDAR
VERSION:2.0
PRODID:icalendar-ruby
CALSCALE:GREGORIAN
METHOD:PUBLISH
BEGIN:VEVENT
DTSTAMP:20260423T123913Z
UID:21-962759@whbcjacksonville.com
DTSTART:20261005T223000Z
DTEND:20261005T233000Z
CLASS:PUBLIC
CREATED:20260423T070105
DESCRIPTION:Ladies Workout
LAST-MODIFIED:20260423T070105
LOCATION:Woodland Heights
SUMMARY:Ladies Workout
URL;VALUE=URI:https://whbcjacksonville.com/events/ladies-workout/2026-10-05
END:VEVENT
END:VCALENDAR
