BEGIN:VCALENDAR
VERSION:2.0
PRODID:icalendar-ruby
CALSCALE:GREGORIAN
METHOD:PUBLISH
BEGIN:VEVENT
DTSTAMP:20260423T105415Z
UID:21-962271@whbcjacksonville.com
DTSTART:20260928T223000Z
DTEND:20260928T233000Z
CLASS:PUBLIC
CREATED:20260422T213057
DESCRIPTION:Ladies Workout
LAST-MODIFIED:20260422T213057
LOCATION:Woodland Heights
SUMMARY:Ladies Workout
URL;VALUE=URI:https://whbcjacksonville.com/events/ladies-workout/2026-09-28
END:VEVENT
END:VCALENDAR
