BEGIN:VCALENDAR
VERSION:2.0
PRODID:icalendar-ruby
CALSCALE:GREGORIAN
METHOD:PUBLISH
BEGIN:VEVENT
DTSTAMP:20260423T072715Z
UID:12-962105@whbcjacksonville.com
DTSTART:20260917T211500Z
DTEND:20260917T221500Z
CLASS:PUBLIC
CREATED:20260422T213057
DESCRIPTION:Joy In The Mourning - Widows' Ministry
LAST-MODIFIED:20260422T213057
LOCATION:Woodland Heights
SUMMARY:Joy In The Mourning - Widows' Ministry
URL;VALUE=URI:https://whbcjacksonville.com/events/joy-in-the-mourning-widow
 s-ministry/2026-09-17
ATTACH;FILENAME=1000002107.jpg;FMTTYPE=image/jpeg:https://dq5pwpg1q8ru0.clo
 udfront.net/2025/09/21/16/27/54/643032cd-af03-4baa-8946-731d73b83d34/10000
 02107.jpg
END:VEVENT
END:VCALENDAR
