BEGIN:VCALENDAR
VERSION:2.0
PRODID:icalendar-ruby
CALSCALE:GREGORIAN
METHOD:PUBLISH
BEGIN:VEVENT
DTSTAMP:20260425T144415Z
UID:11-968878@whbcjacksonville.com
DTSTART:20261101T153000Z
DTEND:20261101T163000Z
CLASS:PUBLIC
CREATED:20260425T093236
DESCRIPTION:Adult Sunday School
LAST-MODIFIED:20260425T093236
LOCATION:Woodland Heights
SUMMARY:Adult Sunday School
URL;VALUE=URI:https://whbcjacksonville.com/events/adult-sunday-school/2026-
 11-01
ATTACH;FILENAME=1000002112.jpg;FMTTYPE=image/jpeg:https://dq5pwpg1q8ru0.clo
 udfront.net/2025/09/21/16/25/12/cfbc7f17-7124-4005-a783-7552aa0903d0/10000
 02112.jpg
END:VEVENT
END:VCALENDAR
