BEGIN:VCALENDAR
VERSION:2.0
PRODID:icalendar-ruby
CALSCALE:GREGORIAN
METHOD:PUBLISH
BEGIN:VEVENT
DTSTAMP:20260422T230359Z
UID:11-961072@whbcjacksonville.com
DTSTART:20260927T143000Z
DTEND:20260927T153000Z
CLASS:PUBLIC
CREATED:20260422T154515
DESCRIPTION:Adult Sunday School
LAST-MODIFIED:20260422T154515
LOCATION:Woodland Heights
SUMMARY:Adult Sunday School
URL;VALUE=URI:https://whbcjacksonville.com/events/adult-sunday-school/2026-
 09-27
ATTACH;FILENAME=1000002112.jpg;FMTTYPE=image/jpeg:https://dq5pwpg1q8ru0.clo
 udfront.net/2025/09/21/16/25/12/cfbc7f17-7124-4005-a783-7552aa0903d0/10000
 02112.jpg
END:VEVENT
END:VCALENDAR
